BEGIN:VCALENDAR
VERSION:2.0
PRODID:-//CYREN ZH - ECPv6.15.20//NONSGML v1.0//EN
CALSCALE:GREGORIAN
METHOD:PUBLISH
X-ORIGINAL-URL:https://cyrenzh.ch
X-WR-CALDESC:Events for CYREN ZH
REFRESH-INTERVAL;VALUE=DURATION:PT1H
X-Robots-Tag:noindex
X-PUBLISHED-TTL:PT1H
BEGIN:VTIMEZONE
TZID:Europe/Zurich
BEGIN:DAYLIGHT
TZOFFSETFROM:+0100
TZOFFSETTO:+0200
TZNAME:CEST
DTSTART:20240331T010000
END:DAYLIGHT
BEGIN:STANDARD
TZOFFSETFROM:+0200
TZOFFSETTO:+0100
TZNAME:CET
DTSTART:20241027T010000
END:STANDARD
BEGIN:DAYLIGHT
TZOFFSETFROM:+0100
TZOFFSETTO:+0200
TZNAME:CEST
DTSTART:20250330T010000
END:DAYLIGHT
BEGIN:STANDARD
TZOFFSETFROM:+0200
TZOFFSETTO:+0100
TZNAME:CET
DTSTART:20251026T010000
END:STANDARD
BEGIN:DAYLIGHT
TZOFFSETFROM:+0100
TZOFFSETTO:+0200
TZNAME:CEST
DTSTART:20260329T010000
END:DAYLIGHT
BEGIN:STANDARD
TZOFFSETFROM:+0200
TZOFFSETTO:+0100
TZNAME:CET
DTSTART:20261025T010000
END:STANDARD
END:VTIMEZONE
BEGIN:VEVENT
DTSTART;TZID=Europe/Zurich:20251113T120000
DTEND;TZID=Europe/Zurich:20251113T130000
DTSTAMP:20260425T193008
CREATED:20241210T075921Z
LAST-MODIFIED:20251016T080610Z
UID:6266-1763035200-1763038800@cyrenzh.ch
SUMMARY:🔒 Unlocking Insights 2025: Interdisciplinary Cybersecurity Lunch Talks Series 🔒
DESCRIPTION:This is an online event\, no need to register!  \n\n\n\nAt this cybersecurity talk on Zoom\, Karim Khamaisi will share how people can stay connected when the mobile network fails. He will present a practical setup that combines a small radio network with an easy-to-use phone app\, so neighbours and volunteers can coordinate even without an Internet connection. \n\n\n\nIn a crisis\, you still need to message family\, ask for help\, and trust what you read. Field tests in Zürich showed working connections up to about 1.2 km\, with 92% of messages delivered successfully. The app supports peer-to-peer messaging\, simple identity checks\, and community moderation. \n\n\n\nThe paper:https://arxiv.org/pdf/2509.22568 \n\n\n\n🚀 Join our quarterly lunch series where cybersecurity researchers converge to share\, discuss\, and refine their work. Explore interdisciplinary perspectives\, present your projects\, and foster connections in this collaborative environment. Elevate your understanding and help shape the future of cybersecurity. \n\n\n\nJoin us on Zoom: https://uzh.zoom.us/j/62539031345?pwd=xVZoqIyOM1MHEwl9RtOG2HkCnS09jq.1 \n\n\n\nMeeting-ID: 625 3903 1345Kenncode: 184540
URL:https://cyrenzh.ch/event/cybersecurity-lunch-talks-series-november/
END:VEVENT
END:VCALENDAR