BEGIN:VCALENDAR
VERSION:2.0
PRODID:-//CYREN ZH - ECPv6.15.20//NONSGML v1.0//EN
CALSCALE:GREGORIAN
METHOD:PUBLISH
X-ORIGINAL-URL:https://cyrenzh.ch
X-WR-CALDESC:Events for CYREN ZH
REFRESH-INTERVAL;VALUE=DURATION:PT1H
X-Robots-Tag:noindex
X-PUBLISHED-TTL:PT1H
BEGIN:VTIMEZONE
TZID:Europe/Zurich
BEGIN:DAYLIGHT
TZOFFSETFROM:+0100
TZOFFSETTO:+0200
TZNAME:CEST
DTSTART:20240331T010000
END:DAYLIGHT
BEGIN:STANDARD
TZOFFSETFROM:+0200
TZOFFSETTO:+0100
TZNAME:CET
DTSTART:20241027T010000
END:STANDARD
BEGIN:DAYLIGHT
TZOFFSETFROM:+0100
TZOFFSETTO:+0200
TZNAME:CEST
DTSTART:20250330T010000
END:DAYLIGHT
BEGIN:STANDARD
TZOFFSETFROM:+0200
TZOFFSETTO:+0100
TZNAME:CET
DTSTART:20251026T010000
END:STANDARD
BEGIN:DAYLIGHT
TZOFFSETFROM:+0100
TZOFFSETTO:+0200
TZNAME:CEST
DTSTART:20260329T010000
END:DAYLIGHT
BEGIN:STANDARD
TZOFFSETFROM:+0200
TZOFFSETTO:+0100
TZNAME:CET
DTSTART:20261025T010000
END:STANDARD
END:VTIMEZONE
BEGIN:VEVENT
DTSTART;TZID=Europe/Zurich:20251205T150000
DTEND;TZID=Europe/Zurich:20251205T170000
DTSTAMP:20260424T103906
CREATED:20250225T092832Z
LAST-MODIFIED:20260216T144749Z
UID:6437-1764946800-1764954000@cyrenzh.ch
SUMMARY:OSINT Playdate #4
DESCRIPTION:We’re excited to start the year by announcing the fifth OSINT Playdate in collaboration with OSINT Switzerland! This year\, we will try to change a bit the format\, by focusing each time on one OSINT technique. \n\n\n\nThere will be easy to hard exercises\, any level’s OSINTer is welcome! \n\n\n\nThe fifth playdate will be on the 20. February 2026\, it will be for OSINT Switzerland members and CYREN ZH students and it will be possible to attend in person only. \n\n\n\nIf you would like to attend in person\, we kindly ask you to register on OSINT Switzerland’s website:https://osintswitzerland.ch/events/ \n\n\n\nIf for any reason you cannot attend anymore please let us know\, since seats are limited!
URL:https://cyrenzh.ch/event/osint-playdate-4/
LOCATION:Digital Society Initiative\, Eventroom\, Rämistrasse 69\, Zürich\, 8001\, Schweiz
ATTACH;FMTTYPE=image/png:https://cyrenzh.ch/wp-content/uploads/2024/12/OSINT-Switzerland_logo-1024x455-1.png
END:VEVENT
END:VCALENDAR